BEGIN:VCALENDAR
VERSION:2.0
PRODID:-//Elisabeth Krista – Botschafterin für glückliche Kindheiten - ECPv6.15.18//NONSGML v1.0//EN
CALSCALE:GREGORIAN
METHOD:PUBLISH
X-ORIGINAL-URL:https://elisabethkrista.com
X-WR-CALDESC:Veranstaltungen für Elisabeth Krista – Botschafterin für glückliche Kindheiten
REFRESH-INTERVAL;VALUE=DURATION:PT1H
X-Robots-Tag:noindex
X-PUBLISHED-TTL:PT1H
BEGIN:VTIMEZONE
TZID:Europe/Berlin
BEGIN:DAYLIGHT
TZOFFSETFROM:+0100
TZOFFSETTO:+0200
TZNAME:CEST
DTSTART:20250330T010000
END:DAYLIGHT
BEGIN:STANDARD
TZOFFSETFROM:+0200
TZOFFSETTO:+0100
TZNAME:CET
DTSTART:20251026T010000
END:STANDARD
BEGIN:DAYLIGHT
TZOFFSETFROM:+0100
TZOFFSETTO:+0200
TZNAME:CEST
DTSTART:20260329T010000
END:DAYLIGHT
BEGIN:STANDARD
TZOFFSETFROM:+0200
TZOFFSETTO:+0100
TZNAME:CET
DTSTART:20261025T010000
END:STANDARD
BEGIN:DAYLIGHT
TZOFFSETFROM:+0100
TZOFFSETTO:+0200
TZNAME:CEST
DTSTART:20270328T010000
END:DAYLIGHT
BEGIN:STANDARD
TZOFFSETFROM:+0200
TZOFFSETTO:+0100
TZNAME:CET
DTSTART:20271031T010000
END:STANDARD
END:VTIMEZONE
BEGIN:VEVENT
DTSTART;TZID=Europe/Berlin:20260413T140000
DTEND;TZID=Europe/Berlin:20260413T160000
DTSTAMP:20260425T174548
CREATED:20260220T164126Z
LAST-MODIFIED:20260220T170016Z
UID:10000137-1776088800-1776096000@elisabethkrista.com
SUMMARY:Nur Aufbewahrung? Bildungsarbeit in der Kita trotz Personalmangel
DESCRIPTION:Beim Deutschen Kitaleitungskongress 2026 hast du Gelegenheit\, an diesem Workshop bei mir teilzunehmen: \nIn Zeiten von Notbetreuung und Personalmangel hört man oft\, dass in der Kita nur noch „Aufbewahrung“ stattfindet – so lange\, bis man es selber glaubt. Doch das ist ein Trugschluss! \nBildungsarbeit ist Alltagshandeln: vom Anziehen über das Tischdecken bis hin zum Händewaschen.\nBei meinem Workshop lernen die Teilnehmenden Strategien und Methoden kennen\, um trotz Personalmangel qualitativ hochwertige Bildungsarbeit in der Kita zu gewährleisten. \nDenn jeder Moment im Alltag in der Kita ist eine Gelegenheit zur Bildung!\nWie hilft dies\, den eigenen Wert der Arbeit wieder zu sehen und Zufriedenheit am Arbeitsplatz zu steigern? \nWie können Bildungsmomente sichergestellt werden\, wenn kaum Fachpersonal vor Ort ist? \nInhalte beim Deutschen Kitaleitungskongress 2025 in meinem Workshop sind: \nTeamarbeit:\nDelegation\, kurze Wege\, Kommunikation im Alltag (Tür zu Tür)\, Kommunikation über KitaApp und Gruppenbuch \nRaumgestaltung\nRaum als dritter Erzieher\, Bildungsangebote selbständig bearbeiten können\, Raumauswahl mit System\, Anmelde- und Abmeldesysteme aus der Praxis\, Bewegung im Alltag\, Aufsichtspflicht gewährleisten – wie kann es gehen? \nKonzept\nFörderung der Selbständigkeit\, Alltagshandlungen als Bildungsarbeit begreifen und mit Eltern kommunizieren\, Kinder effektiv anleiten. \nStärkung des Selbstwertes der pädagogischen Fachkräfte\n\nAufmerksamkeit: Welche Bildungsprozesse geschehen im täglichen Arbeiten? Alltagshandeln neu bewerten und als Bildungsarbeit transparent machen\,\nAnalyse mit dem Team\,\nTipps zur Umsetzung\,\nBest practice\,\nGruppenarbeit & Diskussion\nPraktische Beispiele für Prozessoptimierungen in der Kita\, Austausch mit Teilnehmenden\,\nTipps um das Team mitzunehmen\n\nReflexion der eigenen Praxis in der Kita\nZeit\, die eigene Praxis in den Blick zu und 3 konkrete Änderungsmaßnahmen mit in den Alltag zu nehmen.
URL:https://elisabethkrista.com/termin/dklk-stuttgart/
LOCATION:DKLK Stuttgart\, Fellbach\, 70734\, Germany
CATEGORIES:Fachkräfte,Präsenz
ATTACH;FMTTYPE=image/png:https://elisabethkrista.com/wp-content/uploads/2026/02/DKLK_Marketing-Kit_ALLE_Banner.png
ORGANIZER;CN="Elisabeth":MAILTO:beratung@elisabethkrista.com
END:VEVENT
END:VCALENDAR